BEGIN:VCALENDAR
VERSION:2.0
PRODID:-//IBM Ring 21 - ECPv6.15.20//NONSGML v1.0//EN
CALSCALE:GREGORIAN
METHOD:PUBLISH
X-WR-CALNAME:IBM Ring 21
X-ORIGINAL-URL:https://ibmring21.org
X-WR-CALDESC:Events for IBM Ring 21
REFRESH-INTERVAL;VALUE=DURATION:PT1H
X-Robots-Tag:noindex
X-PUBLISHED-TTL:PT1H
BEGIN:VTIMEZONE
TZID:America/Los_Angeles
BEGIN:DAYLIGHT
TZOFFSETFROM:-0800
TZOFFSETTO:-0700
TZNAME:PDT
DTSTART:20240310T100000
END:DAYLIGHT
BEGIN:STANDARD
TZOFFSETFROM:-0700
TZOFFSETTO:-0800
TZNAME:PST
DTSTART:20241103T090000
END:STANDARD
BEGIN:DAYLIGHT
TZOFFSETFROM:-0800
TZOFFSETTO:-0700
TZNAME:PDT
DTSTART:20250309T100000
END:DAYLIGHT
BEGIN:STANDARD
TZOFFSETFROM:-0700
TZOFFSETTO:-0800
TZNAME:PST
DTSTART:20251102T090000
END:STANDARD
BEGIN:DAYLIGHT
TZOFFSETFROM:-0800
TZOFFSETTO:-0700
TZNAME:PDT
DTSTART:20260308T100000
END:DAYLIGHT
BEGIN:STANDARD
TZOFFSETFROM:-0700
TZOFFSETTO:-0800
TZNAME:PST
DTSTART:20261101T090000
END:STANDARD
END:VTIMEZONE
BEGIN:VEVENT
DTSTART;TZID=America/Los_Angeles:20250904T070000
DTEND;TZID=America/Los_Angeles:20250904T220000
DTSTAMP:20260421T121523
CREATED:20250620T030642Z
LAST-MODIFIED:20250904T213823Z
UID:16131-1756969200-1757023200@ibmring21.org
SUMMARY:Magic Meet-Up - Open Mic + Elections!
DESCRIPTION:It’s Open Mic night where you can test new material\, gain exposure\, develop performance skills or just do your thing. Plus elections and a tribute to our founder Caryl Fleming.
URL:https://ibmring21.org/event/magic-meet-up-luke-dancy-lecture-elections/
LOCATION:Holy Virgin Mary Russian Orthodox Cathedral\, 650 Micheltorena Street\, Los Angeles\, CA\, 90026\, United States
END:VEVENT
END:VCALENDAR