BEGIN:VCALENDAR
VERSION:2.0
PRODID:-//IBM Ring 21 - ECPv6.15.20//NONSGML v1.0//EN
CALSCALE:GREGORIAN
METHOD:PUBLISH
X-ORIGINAL-URL:https://ibmring21.org
X-WR-CALDESC:Events for IBM Ring 21
REFRESH-INTERVAL;VALUE=DURATION:PT1H
X-Robots-Tag:noindex
X-PUBLISHED-TTL:PT1H
BEGIN:VTIMEZONE
TZID:America/Los_Angeles
BEGIN:DAYLIGHT
TZOFFSETFROM:-0800
TZOFFSETTO:-0700
TZNAME:PDT
DTSTART:20240310T100000
END:DAYLIGHT
BEGIN:STANDARD
TZOFFSETFROM:-0700
TZOFFSETTO:-0800
TZNAME:PST
DTSTART:20241103T090000
END:STANDARD
BEGIN:DAYLIGHT
TZOFFSETFROM:-0800
TZOFFSETTO:-0700
TZNAME:PDT
DTSTART:20250309T100000
END:DAYLIGHT
BEGIN:STANDARD
TZOFFSETFROM:-0700
TZOFFSETTO:-0800
TZNAME:PST
DTSTART:20251102T090000
END:STANDARD
BEGIN:DAYLIGHT
TZOFFSETFROM:-0800
TZOFFSETTO:-0700
TZNAME:PDT
DTSTART:20260308T100000
END:DAYLIGHT
BEGIN:STANDARD
TZOFFSETFROM:-0700
TZOFFSETTO:-0800
TZNAME:PST
DTSTART:20261101T090000
END:STANDARD
END:VTIMEZONE
BEGIN:VEVENT
DTSTART;TZID=America/Los_Angeles:20251204T190000
DTEND;TZID=America/Los_Angeles:20251204T220000
DTSTAMP:20260421T064230
CREATED:20251203T000000Z
LAST-MODIFIED:20251203T033334Z
UID:16207-1764874800-1764885600@ibmring21.org
SUMMARY:Ring 21 2025 Holiday Dinner
DESCRIPTION:Ring 21 Annual Holiday Party With Free Dinner!\n \nTis The Season To Celebrate with Catered Free Holiday Dinner & Magic Performances! \nFree parking with a $5 venue fee. \nThis year we will be providing ALL the food & beverages & desserts!! Of course you’re welcome to bring any of your favorite beverages as well family & friends. \nBring an unwrapped toy and/or sports equipment for underserved children and teens for Spark of Love\, a tradition we’ve be doing for many years (started by Robert DeLaGuerra) as an outreach program helping those at this time of year. \nAnd speaking of this time of year… Holiday Performance Night is the theme\, but you can do whatever lifts your spirits! \nAaaand – we’ll be hosting an incredible raffle with wonderful magic give-a-ways! \nDetails and more in our newsletter The Fleming Flashpaper for Dec 2025 by clicking HERE \nIf you still need to pay your dues: CLICK HERE TO PAY (indicate in the notes what the payment is for)
URL:https://ibmring21.org/event/ring-21-holiday-dinner/
LOCATION:Holy Virgin Mary Russian Orthodox Cathedral\, 650 Micheltorena Street\, Los Angeles\, CA\, 90026\, United States
END:VEVENT
END:VCALENDAR