BEGIN:VCALENDAR
VERSION:2.0
PRODID:-//IBM Ring 21 - ECPv6.15.20//NONSGML v1.0//EN
CALSCALE:GREGORIAN
METHOD:PUBLISH
X-ORIGINAL-URL:https://ibmring21.org
X-WR-CALDESC:Events for IBM Ring 21
REFRESH-INTERVAL;VALUE=DURATION:PT1H
X-Robots-Tag:noindex
X-PUBLISHED-TTL:PT1H
BEGIN:VTIMEZONE
TZID:America/Los_Angeles
BEGIN:DAYLIGHT
TZOFFSETFROM:-0800
TZOFFSETTO:-0700
TZNAME:PDT
DTSTART:20250309T100000
END:DAYLIGHT
BEGIN:STANDARD
TZOFFSETFROM:-0700
TZOFFSETTO:-0800
TZNAME:PST
DTSTART:20251102T090000
END:STANDARD
BEGIN:DAYLIGHT
TZOFFSETFROM:-0800
TZOFFSETTO:-0700
TZNAME:PDT
DTSTART:20260308T100000
END:DAYLIGHT
BEGIN:STANDARD
TZOFFSETFROM:-0700
TZOFFSETTO:-0800
TZNAME:PST
DTSTART:20261101T090000
END:STANDARD
BEGIN:DAYLIGHT
TZOFFSETFROM:-0800
TZOFFSETTO:-0700
TZNAME:PDT
DTSTART:20270314T100000
END:DAYLIGHT
BEGIN:STANDARD
TZOFFSETFROM:-0700
TZOFFSETTO:-0800
TZNAME:PST
DTSTART:20271107T090000
END:STANDARD
END:VTIMEZONE
BEGIN:VEVENT
DTSTART;TZID=America/Los_Angeles:20260604T190000
DTEND;TZID=America/Los_Angeles:20260604T220000
DTSTAMP:20260421T155646
CREATED:20260417T021826Z
LAST-MODIFIED:20260417T031326Z
UID:16428-1780599600-1780610400@ibmring21.org
SUMMARY:June Magic meet Up - Children's Magic!
DESCRIPTION:🎩 Magic Meet UP\n\n\n\nDetails Coming…. \n\n\n\n\n\n\n\n🔥 What You’ll Learn\n\n\n\nDetails Coming \n\n\n\nThursday\, June 4th @7pm @ 650 Micheltorena St\, Los Angeles\, CA 90026 \n\n\n\n\nFREE for RING 21 members and $25 for non-members!\n\n\n\nFree Parking!\n\n\n\nPlus RAFFLE PRIZES\n\n\n\nSnacks and Drinks!\n\n\n\n\nCheck out the June Newsletter Coming Soon
URL:https://ibmring21.org/event/june-magic-meet-up/
LOCATION:Holy Virgin Mary Russian Orthodox Cathedral\, 650 Micheltorena Street\, Los Angeles\, CA\, 90026\, United States
ATTACH;FMTTYPE=image/jpeg:https://ibmring21.org/wp-content/uploads/2026/01/main-banner-IBM-chatgpt.jpg
END:VEVENT
BEGIN:VEVENT
DTSTART;TZID=America/Los_Angeles:20260702T190000
DTEND;TZID=America/Los_Angeles:20260702T220000
DTSTAMP:20260421T155646
CREATED:20260417T021912Z
LAST-MODIFIED:20260417T025214Z
UID:16429-1783018800-1783029600@ibmring21.org
SUMMARY:July Magic meet Up!
DESCRIPTION:🎩 Magic Meet UP\n\n\n\nDetails Coming…. \n\n\n\n\n\n\n\n🔥 What You’ll Learn\n\n\n\nDetails Coming \n\n\n\nThursday\, July 2nd @7pm @ 650 Micheltorena St\, Los Angeles\, CA 90026 \n\n\n\n\nFREE for RING 21 members and $25 for non-members!\n\n\n\nFree Parking!\n\n\n\nPlus RAFFLE PRIZES\n\n\n\nSnacks and Drinks!\n\n\n\n\nCheck out the July Newsletter COMING SOON…
URL:https://ibmring21.org/event/july-magic-meet-up/
LOCATION:Holy Virgin Mary Russian Orthodox Cathedral\, 650 Micheltorena Street\, Los Angeles\, CA\, 90026\, United States
ATTACH;FMTTYPE=image/jpeg:https://ibmring21.org/wp-content/uploads/2026/01/main-banner-IBM-chatgpt.jpg
END:VEVENT
END:VCALENDAR