BEGIN:VCALENDAR
VERSION:2.0
PRODID:-//IBM Ring 21 - ECPv6.15.20//NONSGML v1.0//EN
CALSCALE:GREGORIAN
METHOD:PUBLISH
X-WR-CALNAME:IBM Ring 21
X-ORIGINAL-URL:https://ibmring21.org
X-WR-CALDESC:Events for IBM Ring 21
REFRESH-INTERVAL;VALUE=DURATION:PT1H
X-Robots-Tag:noindex
X-PUBLISHED-TTL:PT1H
BEGIN:VTIMEZONE
TZID:America/Los_Angeles
BEGIN:DAYLIGHT
TZOFFSETFROM:-0800
TZOFFSETTO:-0700
TZNAME:PDT
DTSTART:20240310T100000
END:DAYLIGHT
BEGIN:STANDARD
TZOFFSETFROM:-0700
TZOFFSETTO:-0800
TZNAME:PST
DTSTART:20241103T090000
END:STANDARD
BEGIN:DAYLIGHT
TZOFFSETFROM:-0800
TZOFFSETTO:-0700
TZNAME:PDT
DTSTART:20250309T100000
END:DAYLIGHT
BEGIN:STANDARD
TZOFFSETFROM:-0700
TZOFFSETTO:-0800
TZNAME:PST
DTSTART:20251102T090000
END:STANDARD
BEGIN:DAYLIGHT
TZOFFSETFROM:-0800
TZOFFSETTO:-0700
TZNAME:PDT
DTSTART:20260308T100000
END:DAYLIGHT
BEGIN:STANDARD
TZOFFSETFROM:-0700
TZOFFSETTO:-0800
TZNAME:PST
DTSTART:20261101T090000
END:STANDARD
END:VTIMEZONE
BEGIN:VEVENT
DTSTART;TZID=America/Los_Angeles:20250821T070000
DTEND;TZID=America/Los_Angeles:20250821T220000
DTSTAMP:20260421T121537
CREATED:20250620T030405Z
LAST-MODIFIED:20250819T220400Z
UID:16129-1755759600-1755813600@ibmring21.org
SUMMARY:Magic Meet-Up: Fool Us & Initiation Ceremony!
DESCRIPTION:Magic Meet-Up\nFool Us & Initiation Ceremony for New Members!\nInitiation Ceremony for those that joined the past year; to perform a magic eﬀect or even just tell a joke!\n+\nErik & Weiss Fool Us!\n\nNOTE: THIS IS THE THIRD THURSDAY OF THE MONTH\n(because of the MAGIC LIVE convention) \nFor more details – CLICK HERE for our August Newsletter \n 
URL:https://ibmring21.org/event/magic-meet-up-fool-us-initiation-ceremony/
LOCATION:Holy Virgin Mary Russian Orthodox Cathedral\, 650 Micheltorena Street\, Los Angeles\, CA\, 90026\, United States
END:VEVENT
END:VCALENDAR